BEGIN:VCALENDAR
VERSION:2.0
PRODID:icalendar-ruby
CALSCALE:GREGORIAN
BEGIN:VEVENT
DTSTAMP:20260423T010046Z
UID:d3d957de-773e-4e44-814c-0a5e55518e10
DTSTART;VALUE=DATE:20190825
DESCRIPTION:Property ID# 458755\, Locatoin: On site\, Time: 12:00PM
SUMMARY:Auction for 
END:VEVENT
END:VCALENDAR
