BEGIN:VCALENDAR
VERSION:2.0
PRODID:icalendar-ruby
CALSCALE:GREGORIAN
BEGIN:VEVENT
DTSTAMP:20260420T064514Z
UID:285862e9-5550-407c-9847-b085fd678e9f
DTSTART;VALUE=DATE:20190915
DESCRIPTION:Property ID# 460537\, Locatoin: On Site\, Time: 3:00PM
SUMMARY:Auction for 
END:VEVENT
END:VCALENDAR
