BEGIN:VCALENDAR
VERSION:2.0
PRODID:icalendar-ruby
CALSCALE:GREGORIAN
BEGIN:VEVENT
DTSTAMP:20260420T061603Z
UID:b3b6b725-6479-43ea-a691-d0c860a646bb
DTSTART;VALUE=DATE:20191019
DESCRIPTION:Property ID# 463155\, Locatoin: On site\, Time: 12:00PM
SUMMARY:Auction for 
END:VEVENT
END:VCALENDAR
