BEGIN:VCALENDAR
VERSION:2.0
PRODID:icalendar-ruby
CALSCALE:GREGORIAN
BEGIN:VEVENT
DTSTAMP:20260423T004017Z
UID:039b3d4c-56ba-4cad-905d-76b013cbc0fd
DTSTART;VALUE=DATE:20191208
DESCRIPTION:Property ID# 467067\, Locatoin: On site\, Time: 1:00PM
SUMMARY:Auction for 
END:VEVENT
END:VCALENDAR
