BEGIN:VCALENDAR
VERSION:2.0
PRODID:icalendar-ruby
CALSCALE:GREGORIAN
BEGIN:VEVENT
DTSTAMP:20260420T144939Z
UID:fdc6f567-6d95-4093-8eec-4b973d7ced0c
DTSTART;VALUE=DATE:20200209
DESCRIPTION:Property ID# 470510\, Locatoin: On site \, Time: 5:00PM
SUMMARY:Auction for 
END:VEVENT
END:VCALENDAR
