BEGIN:VCALENDAR
VERSION:2.0
PRODID:icalendar-ruby
CALSCALE:GREGORIAN
BEGIN:VEVENT
DTSTAMP:20260422T111010Z
UID:fc370298-112c-4a36-b9d5-a04a47837ee3
DTSTART;VALUE=DATE:20200223
DESCRIPTION:Property ID# 471650\, Time: 5:00PM
SUMMARY:Auction for 
END:VEVENT
END:VCALENDAR
