BEGIN:VCALENDAR
VERSION:2.0
PRODID:icalendar-ruby
CALSCALE:GREGORIAN
BEGIN:VEVENT
DTSTAMP:20260421T070942Z
UID:e2498dfb-6bfc-4580-81fa-ccb5a554b2b2
DTSTART;VALUE=DATE:20200305
DESCRIPTION:Property ID# 472439\, Locatoin: In Rooms Harcourts Takapuna \,1
 28 Hurstmere Road Takapuna\, Time: 6:30PM
SUMMARY:Auction for 
END:VEVENT
END:VCALENDAR
