BEGIN:VCALENDAR
VERSION:2.0
PRODID:icalendar-ruby
CALSCALE:GREGORIAN
BEGIN:VEVENT
DTSTAMP:20260420T224522Z
UID:5cae5c05-a997-4a0e-ba58-1532f0918b10
DTSTART;VALUE=DATE:20200322
DESCRIPTION:Property ID# 474918\, Time: 11:00AM
SUMMARY:Auction for 
END:VEVENT
END:VCALENDAR
