BEGIN:VCALENDAR
VERSION:2.0
PRODID:icalendar-ruby
CALSCALE:GREGORIAN
BEGIN:VEVENT
DTSTAMP:20260420T231057Z
UID:e0b6c3b9-e7a4-4641-b5d0-990997ab8a0f
DTSTART;VALUE=DATE:20200402
DESCRIPTION:Property ID# 475954\, Time: 6:30PM
SUMMARY:Auction for 
END:VEVENT
END:VCALENDAR
