BEGIN:VCALENDAR
VERSION:2.0
PRODID:icalendar-ruby
CALSCALE:GREGORIAN
BEGIN:VEVENT
DTSTAMP:20260423T010718Z
UID:b506fb09-c6a5-4f3c-8b39-02b72626dcb4
DTSTART;VALUE=DATE:20200531
DESCRIPTION:Property ID# 477674\, Locatoin: On Site\, Time: 5:00PM
SUMMARY:Auction for 
END:VEVENT
END:VCALENDAR
