BEGIN:VCALENDAR
VERSION:2.0
PRODID:icalendar-ruby
CALSCALE:GREGORIAN
BEGIN:VEVENT
DTSTAMP:20260423T011229Z
UID:f95cdb16-af89-437f-859d-2d0fd617190d
DTSTART;VALUE=DATE:20200524
DESCRIPTION:Property ID# 477676\, Locatoin: On Site\, Time: 2:00PM
SUMMARY:Auction for 
END:VEVENT
END:VCALENDAR
