BEGIN:VCALENDAR
VERSION:2.0
PRODID:icalendar-ruby
CALSCALE:GREGORIAN
BEGIN:VEVENT
DTSTAMP:20260422T151220Z
UID:93e2110a-6917-44bc-a1d4-ea1808bc2b43
DTSTART;VALUE=DATE:20200628
DESCRIPTION:Property ID# 482022\, Locatoin: On site\, Time: 5:00PM
SUMMARY:Auction for 
END:VEVENT
END:VCALENDAR
