BEGIN:VCALENDAR
VERSION:2.0
PRODID:icalendar-ruby
CALSCALE:GREGORIAN
BEGIN:VEVENT
DTSTAMP:20260424T082404Z
UID:5e6b01fb-24e3-44b9-ba24-55687c720365
DTSTART;VALUE=DATE:20200712
DESCRIPTION:Property ID# 483315\, Locatoin: On site \, Time: 3:00PM
SUMMARY:Auction for 
END:VEVENT
END:VCALENDAR
