BEGIN:VCALENDAR
VERSION:2.0
PRODID:icalendar-ruby
CALSCALE:GREGORIAN
BEGIN:VEVENT
DTSTAMP:20260420T230341Z
UID:8be5e3bd-a8aa-4727-8243-b5ee5364468d
DTSTART;VALUE=DATE:20201210
DESCRIPTION:Property ID# 496455\, Time: 12:00PM
SUMMARY:Auction for 
END:VEVENT
END:VCALENDAR
