BEGIN:VCALENDAR
VERSION:2.0
PRODID:icalendar-ruby
CALSCALE:GREGORIAN
BEGIN:VEVENT
DTSTAMP:20260422T122901Z
UID:20777cbd-202e-4fb8-ab7b-0dfc412f3266
DTSTART;VALUE=DATE:20210819
DESCRIPTION:Property ID# 515194\, Time: 6:00PM
SUMMARY:Auction for 
END:VEVENT
END:VCALENDAR
