BEGIN:VCALENDAR
VERSION:2.0
PRODID:icalendar-ruby
CALSCALE:GREGORIAN
BEGIN:VEVENT
DTSTAMP:20260420T150237Z
UID:27069824-35b0-4c59-b327-88de49cedc59
DTSTART;VALUE=DATE:20211028
DESCRIPTION:Property ID# 518842\, Locatoin: Auction to be conducted Online\
 , Time: 3:00PM
SUMMARY:Auction for 
END:VEVENT
END:VCALENDAR
