BEGIN:VCALENDAR
VERSION:2.0
PRODID:icalendar-ruby
CALSCALE:GREGORIAN
BEGIN:VEVENT
DTSTAMP:20260420T063024Z
UID:111e33f5-a26a-4d1a-b96d-4a44348b4be1
DTSTART;VALUE=DATE:20211125
DESCRIPTION:Property ID# 521153\, Locatoin: Livestreamed Online\, Time: 1:0
 0PM
SUMMARY:Auction for 
END:VEVENT
END:VCALENDAR
