BEGIN:VCALENDAR
VERSION:2.0
PRODID:icalendar-ruby
CALSCALE:GREGORIAN
BEGIN:VEVENT
DTSTAMP:20260420T060720Z
UID:f9a67545-bcbd-4f20-ab2f-10455d77b9b2
DTSTART;VALUE=DATE:20211202
DESCRIPTION:Property ID# 521945\, Locatoin: Livestreamed Online\, Time: 6:3
 0PM
SUMMARY:Auction for 
END:VEVENT
END:VCALENDAR
