BEGIN:VCALENDAR
VERSION:2.0
PRODID:icalendar-ruby
CALSCALE:GREGORIAN
BEGIN:VEVENT
DTSTAMP:20260420T063119Z
UID:5e9c653d-a8b3-46de-a0fb-037a41ec37f4
DTSTART;VALUE=DATE:20211216
DESCRIPTION:Property ID# 522603\, Locatoin: Livestreamed\, Takapuna\, Time:
  1:00PM
SUMMARY:Auction for 
END:VEVENT
END:VCALENDAR
