BEGIN:VCALENDAR
VERSION:2.0
PRODID:icalendar-ruby
CALSCALE:GREGORIAN
BEGIN:VEVENT
DTSTAMP:20260420T105921Z
UID:aa12b80a-4823-4840-bb86-2b2c57e01124
DTSTART;VALUE=DATE:20230706
DESCRIPTION:Property ID# 558448\, Locatoin: On Site\, Time: 1:00PM
SUMMARY:Auction for 
END:VEVENT
END:VCALENDAR
