BEGIN:VCALENDAR
VERSION:2.0
PRODID:icalendar-ruby
CALSCALE:GREGORIAN
BEGIN:VEVENT
DTSTAMP:20260420T005107Z
UID:f5077a44-c641-4ea0-8bab-debadcf370e2
DTSTART;VALUE=DATE:20260311
DESCRIPTION:Property ID# 596544\, Time: 4:00PM
SUMMARY:Auction for 34 Torea Road
END:VEVENT
END:VCALENDAR
