BEGIN:VCALENDAR
VERSION:2.0
PRODID:icalendar-ruby
CALSCALE:GREGORIAN
BEGIN:VEVENT
DTSTAMP:20260419T170255Z
UID:bcab0256-fd50-4a51-aba1-fc8c77556755
DTSTART;VALUE=DATE:20251211
DESCRIPTION:Property ID# 600331\, Locatoin: Auction Rooms Takapuna (USP)\, 
 Time: 12:00PM
SUMMARY:Auction for 
END:VEVENT
END:VCALENDAR
