BEGIN:VCALENDAR
VERSION:2.0
PRODID:icalendar-ruby
CALSCALE:GREGORIAN
BEGIN:VEVENT
DTSTAMP:20260419T115611Z
UID:0b5937dd-b949-490b-b0db-e5865902c781
DTSTART;TZID=Pacific/Auckland:20260418T113000
DTEND;TZID=Pacific/Auckland:20260418T120000
DESCRIPTION:Property ID# 606346
SUMMARY:Openhome for 70 Omaha Drive
END:VEVENT
END:VCALENDAR
