BEGIN:VCALENDAR
VERSION:2.0
PRODID:icalendar-ruby
CALSCALE:GREGORIAN
BEGIN:VEVENT
DTSTAMP:20260420T005822Z
UID:25ad0d17-1a83-4d71-bd89-35b7d33c4d73
DTSTART;TZID=Pacific/Auckland:20260418T120000
DTEND;TZID=Pacific/Auckland:20260418T123000
DESCRIPTION:Property ID# 600380
SUMMARY:Openhome for 3 Caroline Heights
END:VEVENT
END:VCALENDAR
