BEGIN:VCALENDAR
VERSION:2.0
PRODID:icalendar-ruby
CALSCALE:GREGORIAN
BEGIN:VEVENT
DTSTAMP:20260420T005922Z
UID:7060f501-7b09-4ad3-8e2d-c8e5da555fe6
DTSTART;TZID=Pacific/Auckland:20260418T120000
DTEND;TZID=Pacific/Auckland:20260418T123000
DESCRIPTION:Property ID# 596928
SUMMARY:Openhome for 30 Caroline Heights
END:VEVENT
END:VCALENDAR
