BEGIN:VCALENDAR
VERSION:2.0
PRODID:icalendar-ruby
CALSCALE:GREGORIAN
BEGIN:VEVENT
DTSTAMP:20260420T004443Z
UID:d7f65ad7-2c2b-429b-84cf-a4262feb513d
DTSTART;TZID=Pacific/Auckland:20260418T130000
DTEND;TZID=Pacific/Auckland:20260418T133000
DESCRIPTION:Property ID# 602113
SUMMARY:Openhome for 23 Tuna Place
END:VEVENT
END:VCALENDAR
