BEGIN:VCALENDAR
VERSION:2.0
PRODID:icalendar-ruby
CALSCALE:GREGORIAN
BEGIN:VEVENT
DTSTAMP:20260420T004843Z
UID:a0d6a49d-f5af-47d7-97e7-01ca3116d55a
DTSTART;TZID=Pacific/Auckland:20260418T130000
DTEND;TZID=Pacific/Auckland:20260418T133000
DESCRIPTION:Property ID# 596645
SUMMARY:Openhome for 184 Mangatawhiri Road
END:VEVENT
END:VCALENDAR
