BEGIN:VCALENDAR
VERSION:2.0
PRODID:icalendar-ruby
CALSCALE:GREGORIAN
BEGIN:VEVENT
DTSTAMP:20260420T000828Z
UID:9ff6d290-664e-4705-b335-019608ce6756
DTSTART;TZID=Pacific/Auckland:20260418T133000
DTEND;TZID=Pacific/Auckland:20260418T140000
DESCRIPTION:Property ID# 606537
SUMMARY:Openhome for 39 Paraoa Crescent
END:VEVENT
END:VCALENDAR
