BEGIN:VCALENDAR
VERSION:2.0
PRODID:icalendar-ruby
CALSCALE:GREGORIAN
BEGIN:VEVENT
DTSTAMP:20260420T005105Z
UID:4b679b47-b948-4bb8-90b6-e450c6719063
DTSTART;TZID=Pacific/Auckland:20260419T133000
DTEND;TZID=Pacific/Auckland:20260419T140000
DESCRIPTION:Property ID# 601222
SUMMARY:Openhome for 89 Kewai Street
END:VEVENT
END:VCALENDAR
