BEGIN:VCALENDAR
VERSION:2.0
PRODID:icalendar-ruby
CALSCALE:GREGORIAN
BEGIN:VEVENT
DTSTAMP:20260419T203314Z
UID:97d2935d-ad74-43b3-aa49-bf40f892b275
DTSTART;TZID=Pacific/Auckland:20260419T110000
DTEND;TZID=Pacific/Auckland:20260419T113000
DESCRIPTION:Property ID# 572843
SUMMARY:Openhome for 9 Empressa Heights
END:VEVENT
END:VCALENDAR
